BEGIN:VCALENDAR
VERSION:2.0
CALSCALE:GREGORIAN
PRODID:-//Diputació de Barcelona//DibaCMS//EN
BEGIN:VEVENT
UID:22360
DTSTAMP:20260424T210107
DTSTART:20090425T170000
DTEND:20090425T000000
SUMMARY:X Trobada de Puntaires
LOCATION:
METHOD:PUBLISH
X-WR-CALNAME:e-seu@ajpiera.cat
X-WR-TIMEZONE:Europe/Madrid
DESCRIPTION:X Trobada de Puntaires
URI:https://www.viladepiera.cat/actualitat/agenda/x-trobada-de-puntaires.html
CLASS:PUBLIC
END:VEVENT
END:VCALENDAR
