BEGIN:VCALENDAR
VERSION:2.0
CALSCALE:GREGORIAN
PRODID:-//Diputació de Barcelona//DibaCMS//EN
BEGIN:VEVENT
UID:22361
DTSTAMP:20260425T005637
DTSTART:20090425T170000
DTEND:20090425T000000
SUMMARY:Festa infantil 
LOCATION:
METHOD:PUBLISH
X-WR-CALNAME:e-seu@ajpiera.cat
X-WR-TIMEZONE:Europe/Madrid
DESCRIPTION:Festa infantil 
URI:https://www.viladepiera.cat/actualitat/agenda/festa-infantil-.html
CLASS:PUBLIC
END:VEVENT
END:VCALENDAR
