BEGIN:VCALENDAR
VERSION:2.0
CALSCALE:GREGORIAN
PRODID:-//Diputació de Barcelona//DibaCMS//EN
BEGIN:VEVENT
UID:22365
DTSTAMP:20260425T004830
DTSTART:20090426T130000
DTEND:20090426T000000
SUMMARY:Trofeus tennis
LOCATION:
METHOD:PUBLISH
X-WR-CALNAME:e-seu@ajpiera.cat
X-WR-TIMEZONE:Europe/Madrid
DESCRIPTION:Trofeus tennis
URI:https://www.viladepiera.cat/actualitat/agenda/trofeus-tennis.html
CLASS:PUBLIC
END:VEVENT
END:VCALENDAR
