BEGIN:VCALENDAR
VERSION:2.0
CALSCALE:GREGORIAN
PRODID:-//Diputació de Barcelona//DibaCMS//EN
BEGIN:VEVENT
UID:22370
DTSTAMP:20260424T205110
DTSTART:20090428T000000
DTEND:20090428T000000
SUMMARY:Diada del Sant Crist
LOCATION:
METHOD:PUBLISH
X-WR-CALNAME:e-seu@ajpiera.cat
X-WR-TIMEZONE:Europe/Madrid
DESCRIPTION:Diada del Sant Crist
URI:https://www.viladepiera.cat/actualitat/agenda/diada-del-sant-crist.html
CLASS:PUBLIC
END:VEVENT
END:VCALENDAR
