BEGIN:VCALENDAR
VERSION:2.0
CALSCALE:GREGORIAN
PRODID:-//Diputació de Barcelona//DibaCMS//EN
BEGIN:VEVENT
UID:22372
DTSTAMP:20260424T230536
DTSTART:20090501T000000
DTEND:20090501T000000
SUMMARY:XXXIII Aplec de Mas Bonans
LOCATION:
METHOD:PUBLISH
X-WR-CALNAME:e-seu@ajpiera.cat
X-WR-TIMEZONE:Europe/Madrid
DESCRIPTION:XXXIII Aplec de Mas Bonans
URI:https://www.viladepiera.cat/actualitat/agenda/xxxiii-aplec-de-mas-bonans.html
CLASS:PUBLIC
END:VEVENT
END:VCALENDAR
