BEGIN:VCALENDAR
VERSION:2.0
CALSCALE:GREGORIAN
PRODID:-//Diputació de Barcelona//DibaCMS//EN
BEGIN:VEVENT
UID:22374
DTSTAMP:20260425T031509
DTSTART:20090502T190000
DTEND:20090502T000000
SUMMARY:Ball amb l'Orquestra Volcán
LOCATION:
METHOD:PUBLISH
X-WR-CALNAME:e-seu@ajpiera.cat
X-WR-TIMEZONE:Europe/Madrid
DESCRIPTION:Ball amb l'Orquestra Volcán
URI:https://www.viladepiera.cat/actualitat/agenda/ball-amb-lorquestra-volcan.html
CLASS:PUBLIC
END:VEVENT
END:VCALENDAR
