BEGIN:VCALENDAR
VERSION:2.0
CALSCALE:GREGORIAN
PRODID:-//Diputació de Barcelona//DibaCMS//EN
BEGIN:VEVENT
UID:22379
DTSTAMP:20260424T220957
DTSTART:20090507T190000
DTEND:20090507T000000
SUMMARY:Intel·ligència emocional
LOCATION:
METHOD:PUBLISH
X-WR-CALNAME:e-seu@ajpiera.cat
X-WR-TIMEZONE:Europe/Madrid
DESCRIPTION:Intel·ligència emocional
URI:https://www.viladepiera.cat/actualitat/agenda/intelligencia-emocional.html
CLASS:PUBLIC
END:VEVENT
END:VCALENDAR
