BEGIN:VCALENDAR
VERSION:2.0
CALSCALE:GREGORIAN
PRODID:-//Diputació de Barcelona//DibaCMS//EN
BEGIN:VEVENT
UID:22380
DTSTAMP:20260424T205127
DTSTART:20090508T200000
DTEND:20090508T000000
SUMMARY:30è aniversari ajuntaments democràtics
LOCATION:
METHOD:PUBLISH
X-WR-CALNAME:e-seu@ajpiera.cat
X-WR-TIMEZONE:Europe/Madrid
DESCRIPTION:30è aniversari ajuntaments democràtics
URI:https://www.viladepiera.cat/actualitat/agenda/30e-aniversari-ajuntaments-democratics.html
CLASS:PUBLIC
END:VEVENT
END:VCALENDAR
