BEGIN:VCALENDAR
VERSION:2.0
CALSCALE:GREGORIAN
PRODID:-//Diputació de Barcelona//DibaCMS//EN
BEGIN:VEVENT
UID:22382
DTSTAMP:20260424T220823
DTSTART:20090510T000000
DTEND:20090510T000000
SUMMARY:Hem fet 10 anys!
LOCATION:
METHOD:PUBLISH
X-WR-CALNAME:e-seu@ajpiera.cat
X-WR-TIMEZONE:Europe/Madrid
DESCRIPTION:Hem fet 10 anys!
URI:https://www.viladepiera.cat/actualitat/agenda/hem-fet-10-anys.html
CLASS:PUBLIC
END:VEVENT
END:VCALENDAR
