BEGIN:VCALENDAR
VERSION:2.0
CALSCALE:GREGORIAN
PRODID:-//Diputació de Barcelona//DibaCMS//EN
BEGIN:VEVENT
UID:22384
DTSTAMP:20260424T212604
DTSTART:20090510T000000
DTEND:20090510T000000
SUMMARY:VIII Aplec de Santa Creu de Creixà
LOCATION:
METHOD:PUBLISH
X-WR-CALNAME:e-seu@ajpiera.cat
X-WR-TIMEZONE:Europe/Madrid
DESCRIPTION:VIII Aplec de Santa Creu de Creixà
URI:https://www.viladepiera.cat/actualitat/agenda/viii-aplec-de-santa-creu-de-creixa.html
CLASS:PUBLIC
END:VEVENT
END:VCALENDAR
