BEGIN:VCALENDAR
VERSION:2.0
CALSCALE:GREGORIAN
PRODID:-//Diputació de Barcelona//DibaCMS//EN
BEGIN:VEVENT
UID:22387
DTSTAMP:20260424T231600
DTSTART:20090512T180000
DTEND:20090512T000000
SUMMARY:Primers auxilis a la llar
LOCATION:
METHOD:PUBLISH
X-WR-CALNAME:e-seu@ajpiera.cat
X-WR-TIMEZONE:Europe/Madrid
DESCRIPTION:Primers auxilis a la llar
URI:https://www.viladepiera.cat/actualitat/agenda/primers-auxilis-a-la-llar.html
CLASS:PUBLIC
END:VEVENT
END:VCALENDAR
