BEGIN:VCALENDAR
VERSION:2.0
CALSCALE:GREGORIAN
PRODID:-//Diputació de Barcelona//DibaCMS//EN
BEGIN:VEVENT
UID:22390
DTSTAMP:20260425T000615
DTSTART:20090515T223000
DTEND:20090515T000000
SUMMARY:Poesia i cava
LOCATION:
METHOD:PUBLISH
X-WR-CALNAME:e-seu@ajpiera.cat
X-WR-TIMEZONE:Europe/Madrid
DESCRIPTION:Poesia i cava
URI:https://www.viladepiera.cat/actualitat/agenda/poesia-i-cava.html
CLASS:PUBLIC
END:VEVENT
END:VCALENDAR
