BEGIN:VCALENDAR
VERSION:2.0
CALSCALE:GREGORIAN
PRODID:-//Diputació de Barcelona//DibaCMS//EN
BEGIN:VEVENT
UID:22396
DTSTAMP:20260424T195642
DTSTART:20090518T190000
DTEND:20090518T000000
SUMMARY:Núria Feliu
LOCATION:
METHOD:PUBLISH
X-WR-CALNAME:e-seu@ajpiera.cat
X-WR-TIMEZONE:Europe/Madrid
DESCRIPTION:Núria Feliu
URI:https://www.viladepiera.cat/actualitat/agenda/nuria-feliu.html
CLASS:PUBLIC
END:VEVENT
END:VCALENDAR
