BEGIN:VCALENDAR
VERSION:2.0
CALSCALE:GREGORIAN
PRODID:-//Diputació de Barcelona//DibaCMS//EN
BEGIN:VEVENT
UID:22397
DTSTAMP:20260425T034318
DTSTART:20090519T183000
DTEND:20090519T000000
SUMMARY:Emili Teixidor
LOCATION:
METHOD:PUBLISH
X-WR-CALNAME:e-seu@ajpiera.cat
X-WR-TIMEZONE:Europe/Madrid
DESCRIPTION:Emili Teixidor
URI:https://www.viladepiera.cat/actualitat/agenda/emili-teixidor.html
CLASS:PUBLIC
END:VEVENT
END:VCALENDAR
