BEGIN:VCALENDAR
VERSION:2.0
CALSCALE:GREGORIAN
PRODID:-//Diputació de Barcelona//DibaCMS//EN
BEGIN:VEVENT
UID:22403
DTSTAMP:20260424T205853
DTSTART:20090523T210000
DTEND:20090523T000000
SUMMARY:Concert Jove
LOCATION:
METHOD:PUBLISH
X-WR-CALNAME:e-seu@ajpiera.cat
X-WR-TIMEZONE:Europe/Madrid
DESCRIPTION:Concert Jove
URI:https://www.viladepiera.cat/actualitat/agenda/concert-jove.html
CLASS:PUBLIC
END:VEVENT
END:VCALENDAR
