BEGIN:VCALENDAR
VERSION:2.0
CALSCALE:GREGORIAN
PRODID:-//Diputació de Barcelona//DibaCMS//EN
BEGIN:VEVENT
UID:22404
DTSTAMP:20260424T221528
DTSTART:20090523T000000
DTEND:20090523T000000
SUMMARY:Reserves «Festa de l'esport»
LOCATION:
METHOD:PUBLISH
X-WR-CALNAME:e-seu@ajpiera.cat
X-WR-TIMEZONE:Europe/Madrid
DESCRIPTION:Reserves «Festa de l'esport»
URI:https://www.viladepiera.cat/actualitat/agenda/reserves-festa-de-lesport.html
CLASS:PUBLIC
END:VEVENT
END:VCALENDAR
