BEGIN:VCALENDAR
VERSION:2.0
CALSCALE:GREGORIAN
PRODID:-//Diputació de Barcelona//DibaCMS//EN
BEGIN:VEVENT
UID:22405
DTSTAMP:20260424T210953
DTSTART:20090523T174500
DTEND:20090523T000000
SUMMARY:Víctor Montaner
LOCATION:
METHOD:PUBLISH
X-WR-CALNAME:e-seu@ajpiera.cat
X-WR-TIMEZONE:Europe/Madrid
DESCRIPTION:Víctor Montaner
URI:https://www.viladepiera.cat/actualitat/agenda/victor-montaner.html
CLASS:PUBLIC
END:VEVENT
END:VCALENDAR
