BEGIN:VCALENDAR
VERSION:2.0
CALSCALE:GREGORIAN
PRODID:-//Diputació de Barcelona//DibaCMS//EN
BEGIN:VEVENT
UID:22409
DTSTAMP:20260424T220849
DTSTART:20090526T160000
DTEND:20090526T000000
SUMMARY:Sexoafectivitat
LOCATION:
METHOD:PUBLISH
X-WR-CALNAME:e-seu@ajpiera.cat
X-WR-TIMEZONE:Europe/Madrid
DESCRIPTION:Sexoafectivitat
URI:https://www.viladepiera.cat/actualitat/agenda/sexoafectivitat.html
CLASS:PUBLIC
END:VEVENT
END:VCALENDAR
