BEGIN:VCALENDAR
VERSION:2.0
CALSCALE:GREGORIAN
PRODID:-//Diputació de Barcelona//DibaCMS//EN
BEGIN:VEVENT
UID:22410
DTSTAMP:20260424T210231
DTSTART:20090526T180000
DTEND:20090526T000000
SUMMARY:EXPO-VAL
LOCATION:
METHOD:PUBLISH
X-WR-CALNAME:e-seu@ajpiera.cat
X-WR-TIMEZONE:Europe/Madrid
DESCRIPTION:EXPO-VAL
URI:https://www.viladepiera.cat/actualitat/agenda/expo-val.html
CLASS:PUBLIC
END:VEVENT
END:VCALENDAR
