BEGIN:VCALENDAR
VERSION:2.0
CALSCALE:GREGORIAN
PRODID:-//Diputació de Barcelona//DibaCMS//EN
BEGIN:VEVENT
UID:22411
DTSTAMP:20260424T205223
DTSTART:20090527T204500
DTEND:20090527T000000
SUMMARY:Final de la Champions
LOCATION:
METHOD:PUBLISH
X-WR-CALNAME:e-seu@ajpiera.cat
X-WR-TIMEZONE:Europe/Madrid
DESCRIPTION:Final de la Champions
URI:https://www.viladepiera.cat/actualitat/agenda/final-de-la-champions.html
CLASS:PUBLIC
END:VEVENT
END:VCALENDAR
