BEGIN:VCALENDAR
VERSION:2.0
CALSCALE:GREGORIAN
PRODID:-//Diputació de Barcelona//DibaCMS//EN
BEGIN:VEVENT
UID:22418
DTSTAMP:20260424T160435
DTSTART:20090603T160000
DTEND:20090603T190000
SUMMARY:Seminaris d'emprenedoria i empresa
LOCATION:
METHOD:PUBLISH
X-WR-CALNAME:e-seu@ajpiera.cat
X-WR-TIMEZONE:Europe/Madrid
DESCRIPTION:Seminaris d'emprenedoria i empresa
URI:https://www.viladepiera.cat/actualitat/agenda/22418-seminaris-demprenedoria-i-empresa.html
CLASS:PUBLIC
END:VEVENT
END:VCALENDAR
