BEGIN:VCALENDAR
VERSION:2.0
CALSCALE:GREGORIAN
PRODID:-//Diputació de Barcelona//DibaCMS//EN
BEGIN:VEVENT
UID:22419
DTSTAMP:20260425T000726
DTSTART:20090605T190000
DTEND:20090605T000000
SUMMARY:Audició d'adults
LOCATION:
METHOD:PUBLISH
X-WR-CALNAME:e-seu@ajpiera.cat
X-WR-TIMEZONE:Europe/Madrid
DESCRIPTION:Audició d'adults
URI:https://www.viladepiera.cat/actualitat/agenda/audicio-dadults.html
CLASS:PUBLIC
END:VEVENT
END:VCALENDAR
