BEGIN:VCALENDAR
VERSION:2.0
CALSCALE:GREGORIAN
PRODID:-//Diputació de Barcelona//DibaCMS//EN
BEGIN:VEVENT
UID:22422
DTSTAMP:20260424T235805
DTSTART:20090606T000000
DTEND:20090607T000000
SUMMARY:Portes Obertes Esport
LOCATION:
METHOD:PUBLISH
X-WR-CALNAME:e-seu@ajpiera.cat
X-WR-TIMEZONE:Europe/Madrid
DESCRIPTION:Portes Obertes Esport
URI:https://www.viladepiera.cat/actualitat/agenda/portes-obertes-esport.html
CLASS:PUBLIC
END:VEVENT
END:VCALENDAR
