BEGIN:VCALENDAR
VERSION:2.0
CALSCALE:GREGORIAN
PRODID:-//Diputació de Barcelona//DibaCMS//EN
BEGIN:VEVENT
UID:22425
DTSTAMP:20260424T232540
DTSTART:20090610T160000
DTEND:20090610T190000
SUMMARY:Seminaris d'emprenedoria i empresa
LOCATION:
METHOD:PUBLISH
X-WR-CALNAME:e-seu@ajpiera.cat
X-WR-TIMEZONE:Europe/Madrid
DESCRIPTION:Seminaris d'emprenedoria i empresa
URI:https://www.viladepiera.cat/actualitat/agenda/22425-seminaris-demprenedoria-i-empresa.html
CLASS:PUBLIC
END:VEVENT
END:VCALENDAR
