BEGIN:VCALENDAR
VERSION:2.0
CALSCALE:GREGORIAN
PRODID:-//Diputació de Barcelona//DibaCMS//EN
BEGIN:VEVENT
UID:22428
DTSTAMP:20260424T235944
DTSTART:20090612T000000
DTEND:20090614T000000
SUMMARY:Festa del Rocío
LOCATION:
METHOD:PUBLISH
X-WR-CALNAME:e-seu@ajpiera.cat
X-WR-TIMEZONE:Europe/Madrid
DESCRIPTION:Festa del Rocío
URI:https://www.viladepiera.cat/actualitat/agenda/festa-del-rocio.html
CLASS:PUBLIC
END:VEVENT
END:VCALENDAR
