BEGIN:VCALENDAR
VERSION:2.0
CALSCALE:GREGORIAN
PRODID:-//Diputació de Barcelona//DibaCMS//EN
BEGIN:VEVENT
UID:22429
DTSTAMP:20260424T215346
DTSTART:20090612T160000
DTEND:20090612T000000
SUMMARY:La família davant els trastorns de conducta
LOCATION:
METHOD:PUBLISH
X-WR-CALNAME:e-seu@ajpiera.cat
X-WR-TIMEZONE:Europe/Madrid
DESCRIPTION:La família davant els trastorns de conducta
URI:https://www.viladepiera.cat/actualitat/agenda/la-familia-davant-els-trastorns-de-conducta.html
CLASS:PUBLIC
END:VEVENT
END:VCALENDAR
