BEGIN:VCALENDAR
VERSION:2.0
CALSCALE:GREGORIAN
PRODID:-//Diputació de Barcelona//DibaCMS//EN
BEGIN:VEVENT
UID:22430
DTSTAMP:20260425T011653
DTSTART:20090612T200000
DTEND:20090612T000000
SUMMARY:Reunió Pierestiu
LOCATION:
METHOD:PUBLISH
X-WR-CALNAME:e-seu@ajpiera.cat
X-WR-TIMEZONE:Europe/Madrid
DESCRIPTION:Reunió Pierestiu
URI:https://www.viladepiera.cat/actualitat/agenda/22430-reunio-pierestiu.html
CLASS:PUBLIC
END:VEVENT
END:VCALENDAR
