BEGIN:VCALENDAR
VERSION:2.0
CALSCALE:GREGORIAN
PRODID:-//Diputació de Barcelona//DibaCMS//EN
BEGIN:VEVENT
UID:22433
DTSTAMP:20260425T053032
DTSTART:20090614T130000
DTEND:20090614T000000
SUMMARY:Plaça del Tibet
LOCATION:
METHOD:PUBLISH
X-WR-CALNAME:e-seu@ajpiera.cat
X-WR-TIMEZONE:Europe/Madrid
DESCRIPTION:Plaça del Tibet
URI:https://www.viladepiera.cat/actualitat/agenda/22433-placa-del-tibet.html
CLASS:PUBLIC
END:VEVENT
END:VCALENDAR
