BEGIN:VCALENDAR
VERSION:2.0
CALSCALE:GREGORIAN
PRODID:-//Diputació de Barcelona//DibaCMS//EN
BEGIN:VEVENT
UID:22434
DTSTAMP:20260425T011335
DTSTART:20090614T110000
DTEND:20090614T000000
SUMMARY:HC Piera-Reus Deportiu
LOCATION:
METHOD:PUBLISH
X-WR-CALNAME:e-seu@ajpiera.cat
X-WR-TIMEZONE:Europe/Madrid
DESCRIPTION:HC Piera-Reus Deportiu
URI:https://www.viladepiera.cat/actualitat/agenda/22434-hc-piera-reus-deportiu.html
CLASS:PUBLIC
END:VEVENT
END:VCALENDAR
