BEGIN:VCALENDAR
VERSION:2.0
CALSCALE:GREGORIAN
PRODID:-//Diputació de Barcelona//DibaCMS//EN
BEGIN:VEVENT
UID:22436
DTSTAMP:20260425T021401
DTSTART:20090617T160000
DTEND:20090617T190000
SUMMARY:Seminaris d'emprenedoria i empresa
LOCATION:
METHOD:PUBLISH
X-WR-CALNAME:e-seu@ajpiera.cat
X-WR-TIMEZONE:Europe/Madrid
DESCRIPTION:Seminaris d'emprenedoria i empresa
URI:https://www.viladepiera.cat/actualitat/agenda/22436-seminaris-demprenedoria-i-empresa.html
CLASS:PUBLIC
END:VEVENT
END:VCALENDAR
