BEGIN:VCALENDAR
VERSION:2.0
CALSCALE:GREGORIAN
PRODID:-//Diputació de Barcelona//DibaCMS//EN
BEGIN:VEVENT
UID:22439
DTSTAMP:20260424T145346
DTSTART:20090619T173000
DTEND:20090619T000000
SUMMARY:Festes fi de curs
LOCATION:
METHOD:PUBLISH
X-WR-CALNAME:e-seu@ajpiera.cat
X-WR-TIMEZONE:Europe/Madrid
DESCRIPTION:Festes de fi de curs 2008-09 als diferents centres del terme, malgrat que les classes finalitzen el dia 23. 
URI:https://www.viladepiera.cat/actualitat/agenda/festes-fi-de-curs.html
CLASS:PUBLIC
END:VEVENT
END:VCALENDAR
