BEGIN:VCALENDAR
VERSION:2.0
CALSCALE:GREGORIAN
PRODID:-//Diputació de Barcelona//DibaCMS//EN
BEGIN:VEVENT
UID:22446
DTSTAMP:20260425T000045
DTSTART:20090627T190000
DTEND:20090627T000000
SUMMARY:Ballestea (Portes obertes)
LOCATION:
METHOD:PUBLISH
X-WR-CALNAME:e-seu@ajpiera.cat
X-WR-TIMEZONE:Europe/Madrid
DESCRIPTION:Ballestea (Portes obertes)
URI:https://www.viladepiera.cat/actualitat/agenda/ballestea-portes-obertes.html
CLASS:PUBLIC
END:VEVENT
END:VCALENDAR
