BEGIN:VCALENDAR
VERSION:2.0
CALSCALE:GREGORIAN
PRODID:-//Diputació de Barcelona//DibaCMS//EN
BEGIN:VEVENT
UID:22447
DTSTAMP:20260424T215446
DTSTART:20090627T000000
DTEND:20090627T000000
SUMMARY:Barri Unificat
LOCATION:
METHOD:PUBLISH
X-WR-CALNAME:e-seu@ajpiera.cat
X-WR-TIMEZONE:Europe/Madrid
DESCRIPTION:Barri Unificat
URI:https://www.viladepiera.cat/actualitat/agenda/barri-unificat.html
CLASS:PUBLIC
END:VEVENT
END:VCALENDAR
