BEGIN:VCALENDAR
VERSION:2.0
CALSCALE:GREGORIAN
PRODID:-//Diputació de Barcelona//DibaCMS//EN
BEGIN:VEVENT
UID:22448
DTSTAMP:20260424T135410
DTSTART:20090703T000000
DTEND:20090705T000000
SUMMARY:Vallbonica
LOCATION:
METHOD:PUBLISH
X-WR-CALNAME:e-seu@ajpiera.cat
X-WR-TIMEZONE:Europe/Madrid
DESCRIPTION:Vallbonica
URI:https://www.viladepiera.cat/actualitat/agenda/vallbonica.html
CLASS:PUBLIC
END:VEVENT
END:VCALENDAR
