BEGIN:VCALENDAR
VERSION:2.0
CALSCALE:GREGORIAN
PRODID:-//Diputació de Barcelona//DibaCMS//EN
BEGIN:VEVENT
UID:22450
DTSTAMP:20260425T021259
DTSTART:20090704T000000
DTEND:20090705T000000
SUMMARY:Guineus
LOCATION:
METHOD:PUBLISH
X-WR-CALNAME:e-seu@ajpiera.cat
X-WR-TIMEZONE:Europe/Madrid
DESCRIPTION:Guineus
URI:https://www.viladepiera.cat/actualitat/agenda/guineus.html
CLASS:PUBLIC
END:VEVENT
END:VCALENDAR
