BEGIN:VCALENDAR
VERSION:2.0
CALSCALE:GREGORIAN
PRODID:-//Diputació de Barcelona//DibaCMS//EN
BEGIN:VEVENT
UID:22451
DTSTAMP:20260424T134140
DTSTART:20090704T000000
DTEND:20090704T000000
SUMMARY:Festa Galega
LOCATION:
METHOD:PUBLISH
X-WR-CALNAME:e-seu@ajpiera.cat
X-WR-TIMEZONE:Europe/Madrid
DESCRIPTION:Festa Galega
URI:https://www.viladepiera.cat/actualitat/agenda/festa-galega.html
CLASS:PUBLIC
END:VEVENT
END:VCALENDAR
