BEGIN:VCALENDAR
VERSION:2.0
CALSCALE:GREGORIAN
PRODID:-//Diputació de Barcelona//DibaCMS//EN
BEGIN:VEVENT
UID:22452
DTSTAMP:20260424T231759
DTSTART:20090704T200000
DTEND:20090704T000000
SUMMARY:Concert Coral Tríola
LOCATION:
METHOD:PUBLISH
X-WR-CALNAME:e-seu@ajpiera.cat
X-WR-TIMEZONE:Europe/Madrid
DESCRIPTION:Concert Coral Tríola
URI:https://www.viladepiera.cat/actualitat/agenda/concert-coral-triola.html
CLASS:PUBLIC
END:VEVENT
END:VCALENDAR
