BEGIN:VCALENDAR
VERSION:2.0
CALSCALE:GREGORIAN
PRODID:-//Diputació de Barcelona//DibaCMS//EN
BEGIN:VEVENT
UID:22453
DTSTAMP:20260424T150155
DTSTART:20090704T220000
DTEND:20090704T000000
SUMMARY:Festival de patinatge
LOCATION:
METHOD:PUBLISH
X-WR-CALNAME:e-seu@ajpiera.cat
X-WR-TIMEZONE:Europe/Madrid
DESCRIPTION:Festival de patinatge
URI:https://www.viladepiera.cat/actualitat/agenda/22453-festival-de-patinatge.html
CLASS:PUBLIC
END:VEVENT
END:VCALENDAR
