BEGIN:VCALENDAR
VERSION:2.0
CALSCALE:GREGORIAN
PRODID:-//Diputació de Barcelona//DibaCMS//EN
BEGIN:VEVENT
UID:22455
DTSTAMP:20260424T171927
DTSTART:20090717T000000
DTEND:20090718T000000
SUMMARY:El Portell
LOCATION:
METHOD:PUBLISH
X-WR-CALNAME:e-seu@ajpiera.cat
X-WR-TIMEZONE:Europe/Madrid
DESCRIPTION:El Portell
URI:https://www.viladepiera.cat/actualitat/agenda/el-portell.html
CLASS:PUBLIC
END:VEVENT
END:VCALENDAR
