BEGIN:VCALENDAR
VERSION:2.0
CALSCALE:GREGORIAN
PRODID:-//Diputació de Barcelona//DibaCMS//EN
BEGIN:VEVENT
UID:22456
DTSTAMP:20260424T160455
DTSTART:20090717T000000
DTEND:20090719T000000
SUMMARY:La Plana-Fàbrica Nova
LOCATION:
METHOD:PUBLISH
X-WR-CALNAME:e-seu@ajpiera.cat
X-WR-TIMEZONE:Europe/Madrid
DESCRIPTION:La Plana-Fàbrica Nova
URI:https://www.viladepiera.cat/actualitat/agenda/la-plana-fabrica-nova.html
CLASS:PUBLIC
END:VEVENT
END:VCALENDAR
