BEGIN:VCALENDAR
VERSION:2.0
CALSCALE:GREGORIAN
PRODID:-//Diputació de Barcelona//DibaCMS//EN
BEGIN:VEVENT
UID:22457
DTSTAMP:20260424T174148
DTSTART:20090717T000000
DTEND:20090719T000000
SUMMARY:Ca n'Aguilera
LOCATION:
METHOD:PUBLISH
X-WR-CALNAME:e-seu@ajpiera.cat
X-WR-TIMEZONE:Europe/Madrid
DESCRIPTION:Ca n'Aguilera
URI:https://www.viladepiera.cat/actualitat/agenda/ca-naguilera.html
CLASS:PUBLIC
END:VEVENT
END:VCALENDAR
