BEGIN:VCALENDAR
VERSION:2.0
CALSCALE:GREGORIAN
PRODID:-//Diputació de Barcelona//DibaCMS//EN
BEGIN:VEVENT
UID:22458
DTSTAMP:20260424T150307
DTSTART:20090717T000000
DTEND:20090726T000000
SUMMARY:Can Canals
LOCATION:
METHOD:PUBLISH
X-WR-CALNAME:e-seu@ajpiera.cat
X-WR-TIMEZONE:Europe/Madrid
DESCRIPTION:Can Canals
URI:https://www.viladepiera.cat/actualitat/agenda/can-canals.html
CLASS:PUBLIC
END:VEVENT
END:VCALENDAR
