BEGIN:VCALENDAR
VERSION:2.0
CALSCALE:GREGORIAN
PRODID:-//Diputació de Barcelona//DibaCMS//EN
BEGIN:VEVENT
UID:22459
DTSTAMP:20260424T194713
DTSTART:20090717T220000
DTEND:20090717T000000
SUMMARY:MEV'09 OSJC
LOCATION:
METHOD:PUBLISH
X-WR-CALNAME:e-seu@ajpiera.cat
X-WR-TIMEZONE:Europe/Madrid
DESCRIPTION:MEV'09 OSJC
URI:https://www.viladepiera.cat/actualitat/agenda/mev09-osjc.html
CLASS:PUBLIC
END:VEVENT
END:VCALENDAR
