BEGIN:VCALENDAR
VERSION:2.0
CALSCALE:GREGORIAN
PRODID:-//Diputació de Barcelona//DibaCMS//EN
BEGIN:VEVENT
UID:22461
DTSTAMP:20260424T140103
DTSTART:20090721T220000
DTEND:20090726T000000
SUMMARY:II Setmana del Terror
LOCATION:
METHOD:PUBLISH
X-WR-CALNAME:e-seu@ajpiera.cat
X-WR-TIMEZONE:Europe/Madrid
DESCRIPTION:II Setmana del Terror
URI:https://www.viladepiera.cat/actualitat/agenda/22461-ii-setmana-del-terror.html
CLASS:PUBLIC
END:VEVENT
END:VCALENDAR
