BEGIN:VCALENDAR
VERSION:2.0
CALSCALE:GREGORIAN
PRODID:-//Diputació de Barcelona//DibaCMS//EN
BEGIN:VEVENT
UID:22463
DTSTAMP:20260424T164056
DTSTART:20090724T000000
DTEND:20090726T000000
SUMMARY:Sant Jaume Sesoliveres 
LOCATION:
METHOD:PUBLISH
X-WR-CALNAME:e-seu@ajpiera.cat
X-WR-TIMEZONE:Europe/Madrid
DESCRIPTION:Sant Jaume Sesoliveres 
URI:https://www.viladepiera.cat/actualitat/agenda/sant-jaume-sesoliveres-.html
CLASS:PUBLIC
END:VEVENT
END:VCALENDAR
