BEGIN:VCALENDAR
VERSION:2.0
CALSCALE:GREGORIAN
PRODID:-//Diputació de Barcelona//DibaCMS//EN
BEGIN:VEVENT
UID:22464
DTSTAMP:20260424T140519
DTSTART:20090724T000000
DTEND:20090725T000000
SUMMARY:24 hores futbol sala
LOCATION:
METHOD:PUBLISH
X-WR-CALNAME:e-seu@ajpiera.cat
X-WR-TIMEZONE:Europe/Madrid
DESCRIPTION:24 hores futbol sala
URI:https://www.viladepiera.cat/actualitat/agenda/24-hores-futbol-sala.html
CLASS:PUBLIC
END:VEVENT
END:VCALENDAR
