BEGIN:VCALENDAR
VERSION:2.0
CALSCALE:GREGORIAN
PRODID:-//Diputació de Barcelona//DibaCMS//EN
BEGIN:VEVENT
UID:22466
DTSTAMP:20260424T140646
DTSTART:20090725T000000
DTEND:20090725T000000
SUMMARY:Festa de l'Agrupació Sardanista 
LOCATION:
METHOD:PUBLISH
X-WR-CALNAME:e-seu@ajpiera.cat
X-WR-TIMEZONE:Europe/Madrid
DESCRIPTION:Festa de l'Agrupació Sardanista 
URI:https://www.viladepiera.cat/actualitat/agenda/22466-festa-de-lagrupacio-sardanista-.html
CLASS:PUBLIC
END:VEVENT
END:VCALENDAR
