BEGIN:VCALENDAR
VERSION:2.0
CALSCALE:GREGORIAN
PRODID:-//Diputació de Barcelona//DibaCMS//EN
BEGIN:VEVENT
UID:22468
DTSTAMP:20260424T170707
DTSTART:20090730T000000
DTEND:20090802T000000
SUMMARY:Cerka'l Festival
LOCATION:
METHOD:PUBLISH
X-WR-CALNAME:e-seu@ajpiera.cat
X-WR-TIMEZONE:Europe/Madrid
DESCRIPTION:7a edició del festival amb Trankis in the night, Cerkatasques i Nit antiestèti-k, Contracensors i Non-Stop, Tam-tam i molt més! 
URI:https://www.viladepiera.cat/actualitat/agenda/22468-cerkal-festival.html
CLASS:PUBLIC
END:VEVENT
END:VCALENDAR
