BEGIN:VCALENDAR
VERSION:2.0
CALSCALE:GREGORIAN
PRODID:-//Diputació de Barcelona//DibaCMS//EN
BEGIN:VEVENT
UID:22471
DTSTAMP:20260424T231625
DTSTART:20090807T000000
DTEND:20090809T000000
SUMMARY:Can Bonastre
LOCATION:
METHOD:PUBLISH
X-WR-CALNAME:e-seu@ajpiera.cat
X-WR-TIMEZONE:Europe/Madrid
DESCRIPTION:Can Bonastre
URI:https://www.viladepiera.cat/actualitat/agenda/22471-can-bonastre.html
CLASS:PUBLIC
END:VEVENT
END:VCALENDAR
