BEGIN:VCALENDAR
VERSION:2.0
CALSCALE:GREGORIAN
PRODID:-//Diputació de Barcelona//DibaCMS//EN
BEGIN:VEVENT
UID:22473
DTSTAMP:20260424T231742
DTSTART:20090810T000000
DTEND:20090816T000000
SUMMARY:La Venta-Can Musarro 
LOCATION:
METHOD:PUBLISH
X-WR-CALNAME:e-seu@ajpiera.cat
X-WR-TIMEZONE:Europe/Madrid
DESCRIPTION:La Venta-Can Musarro 
URI:https://www.viladepiera.cat/actualitat/agenda/la-venta-can-musarro-.html
CLASS:PUBLIC
END:VEVENT
END:VCALENDAR
